BEGIN:VCALENDAR
PRODID:-//eluceo/ical//2.0/EN
VERSION:2.0
CALSCALE:GREGORIAN
BEGIN:VEVENT
UID:78e8db74455c3e12051c0ec28273c54c
DTSTAMP:20260424T184748Z
SUMMARY:Lunch im Bahnhöfli
DESCRIPTION:
URL:https://rc-werdenberg.ch/nl/agenda/show/50685
DTSTART;TZID=Europe/Zurich:20150422T121500
DTEND;TZID=Europe/Zurich:20150422T121500
LOCATION:Restaurant Bahnhof
CATEGORIES:Rotary
END:VEVENT
BEGIN:VTIMEZONE
TZID:Europe/Zurich
BEGIN:DAYLIGHT
DTSTART:20150422T121500
TZNAME:CEST
TZOFFSETTO:+0200
TZOFFSETFROM:+0200
END:DAYLIGHT
END:VTIMEZONE
END:VCALENDAR
