BEGIN:VCALENDAR
PRODID:-//eluceo/ical//2.0/EN
VERSION:2.0
CALSCALE:GREGORIAN
BEGIN:VEVENT
UID:833a9fa10cb3872366fe7f9036b7b89b
DTSTAMP:20260423T120428Z
SUMMARY:Einblicke in die Tätigkeit des Liechtensteiner Fussballnationaltra
 iners
DESCRIPTION:Relatore/i: Rene Pauritsch\, Trainer der Liechtensteiner Fussba
 llnationalmannschaft\, gewährt uns Einblicke in den Spitzensport eines Mi
 krostaates\, der sich sportlich regelmässig gegen übermässige Gegner be
 haupten 
URL:https://rc-werdenberg.ch/it/agenda/show/44970
DTSTART;TZID=Europe/Zurich:20141001T190000
DTEND;TZID=Europe/Zurich:20141001T190000
LOCATION:Restaurant Bahnhof
CATEGORIES:Rotary
END:VEVENT
BEGIN:VTIMEZONE
TZID:Europe/Zurich
BEGIN:DAYLIGHT
DTSTART:20141001T190000
TZNAME:CEST
TZOFFSETTO:+0200
TZOFFSETFROM:+0200
END:DAYLIGHT
END:VTIMEZONE
END:VCALENDAR
