BEGIN:VCALENDAR
PRODID:-//eluceo/ical//2.0/EN
VERSION:2.0
CALSCALE:GREGORIAN
BEGIN:VEVENT
UID:77d186c1c387990d664d1a1ac57cd4a6
DTSTAMP:20260423T221406Z
SUMMARY:Insight - Treffen mit Partnerclub Ulm (Online)
DESCRIPTION:Relatore/i:   Jean-Pierre Barraud  
URL:https://rc-werdenberg.ch/it/agenda/show/132024
DTSTART;TZID=Europe/Zurich:20211110T190000
DTEND;TZID=Europe/Zurich:20211110T210000
LOCATION:online
CATEGORIES:Rotary
END:VEVENT
BEGIN:VTIMEZONE
TZID:Europe/Zurich
BEGIN:STANDARD
DTSTART:20211110T190000
TZNAME:CET
TZOFFSETTO:+0100
TZOFFSETFROM:+0100
END:STANDARD
END:VTIMEZONE
END:VCALENDAR
