BEGIN:VCALENDAR
PRODID:-//eluceo/ical//2.0/EN
VERSION:2.0
CALSCALE:GREGORIAN
BEGIN:VEVENT
UID:595776e99b9c407473682980f45a4eaa
DTSTAMP:20260423T154900Z
SUMMARY:Mitglieder Insight
DESCRIPTION:Relatore/i: \n\n\n\nSigrid Hodel\n\n\n\n
URL:https://rc-werdenberg.ch/it/agenda/show/132020
DTSTART;TZID=Europe/Zurich:20211013T121500
DTEND;TZID=Europe/Zurich:20211013T131500
LOCATION:Bahnhöfli Mittagessen\, Gamserstrasse\, 9469 Haag (Rheintal)\, Sc
 hweiz
CATEGORIES:Rotary
END:VEVENT
BEGIN:VTIMEZONE
TZID:Europe/Zurich
BEGIN:DAYLIGHT
DTSTART:20211013T121500
TZNAME:CEST
TZOFFSETTO:+0200
TZOFFSETFROM:+0200
END:DAYLIGHT
END:VTIMEZONE
END:VCALENDAR
