BEGIN:VCALENDAR
PRODID:-//eluceo/ical//2.0/EN
VERSION:2.0
CALSCALE:GREGORIAN
BEGIN:VEVENT
UID:d86587aedec65849fe8651c4f7e94dc7
DTSTAMP:20260423T142214Z
SUMMARY:Insight
DESCRIPTION:
URL:https://rc-werdenberg.ch/it/agenda/show/131036
DTSTART;TZID=Europe/Zurich:20211006T190000
DTEND;TZID=Europe/Zurich:20211006T210000
LOCATION:Bahnhöfli Mittagessen\, Gamserstrasse\, 9469 Haag (Rheintal)\, Sc
 hweiz
CATEGORIES:Rotary
END:VEVENT
BEGIN:VTIMEZONE
TZID:Europe/Zurich
BEGIN:DAYLIGHT
DTSTART:20211006T190000
TZNAME:CEST
TZOFFSETTO:+0200
TZOFFSETFROM:+0200
END:DAYLIGHT
END:VTIMEZONE
END:VCALENDAR
