BEGIN:VCALENDAR
PRODID:-//eluceo/ical//2.0/EN
VERSION:2.0
CALSCALE:GREGORIAN
BEGIN:VEVENT
UID:22058283a0134f525c1fd05562d3d3d0
DTSTAMP:20260423T105913Z
SUMMARY:Solidarität und  Sozialverantwortung
DESCRIPTION:Relatore/i: Heinrich Toldo
URL:https://rc-werdenberg.ch/it/agenda/show/129237
DTSTART;TZID=Europe/Zurich:20210922T190000
DTEND;TZID=Europe/Zurich:20210922T210000
LOCATION:Bahnhöfli Abendessen\, Gamserstrasse\, 9469 Haag (Rheintal)\, Sch
 weiz
CATEGORIES:Rotary
END:VEVENT
BEGIN:VTIMEZONE
TZID:Europe/Zurich
BEGIN:DAYLIGHT
DTSTART:20210922T190000
TZNAME:CEST
TZOFFSETTO:+0200
TZOFFSETFROM:+0200
END:DAYLIGHT
END:VTIMEZONE
END:VCALENDAR
