BEGIN:VCALENDAR
PRODID:-//eluceo/ical//2.0/EN
VERSION:2.0
CALSCALE:GREGORIAN
BEGIN:VEVENT
UID:6dcf615e94ace6000bf459fc2424a7cb
DTSTAMP:20260423T075018Z
SUMMARY:Kultur & Kunst
DESCRIPTION:Relatore/i: Friedemann Malsch
URL:https://rc-werdenberg.ch/it/agenda/show/129234
DTSTART;TZID=Europe/Zurich:20210811T190000
DTEND;TZID=Europe/Zurich:20210811T210000
LOCATION:Bahnhöfli Abendessen\, Gamserstrasse\, 9469 Haag (Rheintal)\, Sch
 weiz
CATEGORIES:Rotary
END:VEVENT
BEGIN:VTIMEZONE
TZID:Europe/Zurich
BEGIN:DAYLIGHT
DTSTART:20210811T190000
TZNAME:CEST
TZOFFSETTO:+0200
TZOFFSETFROM:+0200
END:DAYLIGHT
END:VTIMEZONE
END:VCALENDAR
