BEGIN:VCALENDAR
PRODID:-//eluceo/ical//2.0/EN
VERSION:2.0
CALSCALE:GREGORIAN
BEGIN:VEVENT
UID:6f8371db89163ca95ee9608e7ebb1998
DTSTAMP:20260422T135027Z
SUMMARY:Kultur & Kunst
DESCRIPTION:Conférencier(s): Elisabeth Sobotka
URL:https://rc-werdenberg.ch/fr/agenda/show/129242
DTSTART;TZID=Europe/Zurich:20210929T121500
DTEND;TZID=Europe/Zurich:20210929T131500
LOCATION:Bahnhöfli Mittagessen\, Gamserstrasse\, 9469 Haag (Rheintal)\, Sc
 hweiz
CATEGORIES:Rotary
END:VEVENT
BEGIN:VTIMEZONE
TZID:Europe/Zurich
BEGIN:DAYLIGHT
DTSTART:20210929T121500
TZNAME:CEST
TZOFFSETTO:+0200
TZOFFSETFROM:+0200
END:DAYLIGHT
END:VTIMEZONE
END:VCALENDAR
