BEGIN:VCALENDAR
PRODID:-//eluceo/ical//2.0/EN
VERSION:2.0
CALSCALE:GREGORIAN
BEGIN:VEVENT
UID:4cfc961fbf3ccbafaf9a5fd1aef4ecb8
DTSTAMP:20260423T120920Z
SUMMARY:Mitglieder Insight
DESCRIPTION:Site internet: https://buchserhof.ch\nConférencier(s): \n\nMay
 a Dür\n\n
URL:https://rc-werdenberg.ch/fr/agenda/show/129239
DTSTART;TZID=Europe/Zurich:20210901T121500
DTEND;TZID=Europe/Zurich:20210901T131500
LOCATION:Buchserhof\, Grünaustrasse 2\, 9470 Buchs\, Schweiz
CATEGORIES:Rotary
END:VEVENT
BEGIN:VTIMEZONE
TZID:Europe/Zurich
BEGIN:DAYLIGHT
DTSTART:20210901T121500
TZNAME:CEST
TZOFFSETTO:+0200
TZOFFSETFROM:+0200
END:DAYLIGHT
END:VTIMEZONE
END:VCALENDAR
