BEGIN:VCALENDAR
PRODID:-//eluceo/ical//2.0/EN
VERSION:2.0
CALSCALE:GREGORIAN
BEGIN:VEVENT
UID:867a7ba268df33aae8549608c0145efb
DTSTAMP:20260419T140724Z
SUMMARY:Sommerferien RC Werdenberg
DESCRIPTION:
URL:https://rc-werdenberg.ch/es/agenda/show/75962
DTSTART;TZID=Europe/Zurich:20170719T000000
DTEND;TZID=Europe/Zurich:20170719T000000
LOCATION:-
CATEGORIES:Rotary
END:VEVENT
BEGIN:VTIMEZONE
TZID:Europe/Zurich
BEGIN:DAYLIGHT
DTSTART:20170719T000000
TZNAME:CEST
TZOFFSETTO:+0200
TZOFFSETFROM:+0200
END:DAYLIGHT
END:VTIMEZONE
END:VCALENDAR
