BEGIN:VCALENDAR
PRODID:-//eluceo/ical//2.0/EN
VERSION:2.0
CALSCALE:GREGORIAN
BEGIN:VEVENT
UID:97b8a8719f4e3792a45e363ce10eb4ad
DTSTAMP:20260421T084943Z
SUMMARY:The New Presidents Speech & Plauderlunch
DESCRIPTION:Mittagsmeeting 12:15 Uhr\nOrador(es): Andreas Nacht
URL:https://rc-werdenberg.ch/es/agenda/show/75954
DTSTART;TZID=Europe/Zurich:20170705T000000
DTEND;TZID=Europe/Zurich:20170705T000000
LOCATION:Restaurant Bahnhof
CATEGORIES:Rotary
END:VEVENT
BEGIN:VTIMEZONE
TZID:Europe/Zurich
BEGIN:DAYLIGHT
DTSTART:20170705T000000
TZNAME:CEST
TZOFFSETTO:+0200
TZOFFSETFROM:+0200
END:DAYLIGHT
END:VTIMEZONE
END:VCALENDAR
