BEGIN:VCALENDAR
PRODID:-//eluceo/ical//2.0/EN
VERSION:2.0
CALSCALE:GREGORIAN
BEGIN:VEVENT
UID:47358aa4eabff62cce2e1f369b0308a5
DTSTAMP:20260419T123201Z
SUMMARY:Neue Praxis in Buchs (Chiropraktor)
DESCRIPTION:Abendmeeting 19:00 Uhr\nOrador(es): Marc Ruhe 
URL:https://rc-werdenberg.ch/es/agenda/show/73624
DTSTART;TZID=Europe/Zurich:20170531T000000
DTEND;TZID=Europe/Zurich:20170531T000000
LOCATION:Restaurant Bahnhof
CATEGORIES:Rotary
END:VEVENT
BEGIN:VTIMEZONE
TZID:Europe/Zurich
BEGIN:DAYLIGHT
DTSTART:20170531T000000
TZNAME:CEST
TZOFFSETTO:+0200
TZOFFSETFROM:+0200
END:DAYLIGHT
END:VTIMEZONE
END:VCALENDAR
