BEGIN:VCALENDAR
PRODID:-//eluceo/ical//2.0/EN
VERSION:2.0
CALSCALE:GREGORIAN
BEGIN:VEVENT
UID:5be89e8a19380c0a09794432a5023fa7
DTSTAMP:20260421T094753Z
SUMMARY:Verein für Menschenrechte in FL
DESCRIPTION:Abendmeeting 19:00 Uhr\nOrador(es): Walter Kranz
URL:https://rc-werdenberg.ch/es/agenda/show/73621
DTSTART;TZID=Europe/Zurich:20170517T000000
DTEND;TZID=Europe/Zurich:20170517T000000
LOCATION:Restaurant Bahnhof
CATEGORIES:Rotary
END:VEVENT
BEGIN:VTIMEZONE
TZID:Europe/Zurich
BEGIN:DAYLIGHT
DTSTART:20170517T000000
TZNAME:CEST
TZOFFSETTO:+0200
TZOFFSETFROM:+0200
END:DAYLIGHT
END:VTIMEZONE
END:VCALENDAR
