BEGIN:VCALENDAR
PRODID:-//eluceo/ical//2.0/EN
VERSION:2.0
CALSCALE:GREGORIAN
BEGIN:VEVENT
UID:ba15cc879bf4a373a026ee493061a3e9
DTSTAMP:20260419T140140Z
SUMMARY:Thomas Spieckermann
DESCRIPTION:Abendmeeting\nOrador(es): TAK Theater Liechtenstein
URL:https://rc-werdenberg.ch/es/agenda/show/72495
DTSTART;TZID=Europe/Zurich:20170308T190000
DTEND;TZID=Europe/Zurich:20170308T190000
LOCATION:Restaurant Bahnhof
CATEGORIES:Rotary
END:VEVENT
BEGIN:VTIMEZONE
TZID:Europe/Zurich
BEGIN:STANDARD
DTSTART:20170308T190000
TZNAME:CET
TZOFFSETTO:+0100
TZOFFSETFROM:+0100
END:STANDARD
END:VTIMEZONE
END:VCALENDAR
