BEGIN:VCALENDAR
PRODID:-//eluceo/ical//2.0/EN
VERSION:2.0
CALSCALE:GREGORIAN
BEGIN:VEVENT
UID:5d656b6fb1aa34f36fe287782008367d
DTSTAMP:20260421T121440Z
SUMMARY:RC Gipfeltreffen
DESCRIPTION:
URL:https://rc-werdenberg.ch/es/agenda/show/69199
DTSTART;TZID=Europe/Zurich:20170316T070000
DTEND;TZID=Europe/Zurich:20170316T070000
LOCATION:Kaffeerösterei Demmel Schaan
CATEGORIES:Rotary
END:VEVENT
BEGIN:VTIMEZONE
TZID:Europe/Zurich
BEGIN:STANDARD
DTSTART:20170316T070000
TZNAME:CET
TZOFFSETTO:+0100
TZOFFSETFROM:+0100
END:STANDARD
END:VTIMEZONE
END:VCALENDAR
