BEGIN:VCALENDAR
PRODID:-//eluceo/ical//2.0/EN
VERSION:2.0
CALSCALE:GREGORIAN
BEGIN:VEVENT
UID:8fc50a995559aebbcf537d52d3574d1d
DTSTAMP:20260423T092555Z
SUMMARY:Weihnachtsferien RC Werdenberg
DESCRIPTION:
URL:https://rc-werdenberg.ch/es/agenda/show/69192
DTSTART;TZID=Europe/Zurich:20170104T000000
DTEND;TZID=Europe/Zurich:20170104T000000
LOCATION:-
CATEGORIES:Rotary
END:VEVENT
BEGIN:VTIMEZONE
TZID:Europe/Zurich
BEGIN:STANDARD
DTSTART:20170104T000000
TZNAME:CET
TZOFFSETTO:+0100
TZOFFSETFROM:+0100
END:STANDARD
END:VTIMEZONE
END:VCALENDAR
