BEGIN:VCALENDAR
PRODID:-//eluceo/ical//2.0/EN
VERSION:2.0
CALSCALE:GREGORIAN
BEGIN:VEVENT
UID:a49042a800e937c01d42d9f20328c896
DTSTAMP:20260423T104028Z
SUMMARY:Eindrücke aus Kirgistan
DESCRIPTION:Abendlunch\nOrador(es): René Frank
URL:https://rc-werdenberg.ch/es/agenda/show/68133
DTSTART;TZID=Europe/Zurich:20170125T190000
DTEND;TZID=Europe/Zurich:20170125T190000
LOCATION:Restaurant Bahnhof
CATEGORIES:Rotary
END:VEVENT
BEGIN:VTIMEZONE
TZID:Europe/Zurich
BEGIN:STANDARD
DTSTART:20170125T190000
TZNAME:CET
TZOFFSETTO:+0100
TZOFFSETFROM:+0100
END:STANDARD
END:VTIMEZONE
END:VCALENDAR
