BEGIN:VCALENDAR
PRODID:-//eluceo/ical//2.0/EN
VERSION:2.0
CALSCALE:GREGORIAN
BEGIN:VEVENT
UID:b70c435e89682baa330926b02812d2cd
DTSTAMP:20260419T132729Z
SUMMARY:Klinik Valens
DESCRIPTION:Orador(es): Dr. med. Till Hornung Direktor und Vorsitzender der
  Geschäftsleitung stellt uns die Klinik Valens vor 
URL:https://rc-werdenberg.ch/es/agenda/show/50031
DTSTART;TZID=Europe/Zurich:20150401T190000
DTEND;TZID=Europe/Zurich:20150401T190000
LOCATION:Restaurant Bahnhof
CATEGORIES:Rotary
END:VEVENT
BEGIN:VTIMEZONE
TZID:Europe/Zurich
BEGIN:DAYLIGHT
DTSTART:20150401T190000
TZNAME:CEST
TZOFFSETTO:+0200
TZOFFSETFROM:+0200
END:DAYLIGHT
END:VTIMEZONE
END:VCALENDAR
