BEGIN:VCALENDAR
PRODID:-//eluceo/ical//2.0/EN
VERSION:2.0
CALSCALE:GREGORIAN
BEGIN:VEVENT
UID:b9ffd96b43aae5bcbf309a5b4d9c1662
DTSTAMP:20260422T092525Z
SUMMARY:Revitalisierung Grabserbach
DESCRIPTION:Webseite: http://www.renat.ch/renat/public_html/renat/\nReferen
 ten/innen: Rudolf Staub\, Renat AG
URL:https://rc-werdenberg.ch/de/agenda/show/149776
DTSTART;TZID=Europe/Zurich:20220928T121500
DTEND;TZID=Europe/Zurich:20220928T140500
LOCATION:Bahnhöfli Mittagessen\, Haagerstrasse 521\, 9473 Gams\, Schweiz
CATEGORIES:Rotary
END:VEVENT
BEGIN:VTIMEZONE
TZID:Europe/Zurich
BEGIN:DAYLIGHT
DTSTART:20220928T121500
TZNAME:CEST
TZOFFSETTO:+0200
TZOFFSETFROM:+0200
END:DAYLIGHT
END:VTIMEZONE
END:VCALENDAR
